BEGIN:VCALENDAR
VERSION:2.0
PRODID:-//Clayfield Yoga Studio - ECPv6.15.17.1//NONSGML v1.0//EN
CALSCALE:GREGORIAN
METHOD:PUBLISH
X-ORIGINAL-URL:https://www.clayfieldyoga.com.au
X-WR-CALDESC:Events for Clayfield Yoga Studio
REFRESH-INTERVAL;VALUE=DURATION:PT1H
X-Robots-Tag:noindex
X-PUBLISHED-TTL:PT1H
BEGIN:VTIMEZONE
TZID:Australia/Brisbane
BEGIN:STANDARD
TZOFFSETFROM:+1000
TZOFFSETTO:+1000
TZNAME:AEST
DTSTART:20250101T000000
END:STANDARD
END:VTIMEZONE
BEGIN:VEVENT
DTSTART;TZID=Australia/Brisbane:20260416T190000
DTEND;TZID=Australia/Brisbane:20260416T203000
DTSTAMP:20260426T012837
CREATED:20260316T000347Z
LAST-MODIFIED:20260412T024100Z
UID:7002-1776366000-1776371400@www.clayfieldyoga.com.au
SUMMARY:FREE EVENT -The Ocean of Yoga
DESCRIPTION:The Ocean of Yoga\nFREE COMMUNITY EVENT \nIf you’re new to yoga—or have been quietly curious—this is your invitation \nToo often\, yoga is promoted through the lens of a physical practice (asana)… but that’s just a small sliver of a much richer\, deeper practice. Beyond the poses lies a whole ocean of wisdom—breath\, meditation\, philosophy\, and connection. Within this full scope of yoga is where the true magic unfolds. \nOur bodies shine when our minds and spirit are equally nurtured and cared for. This is the heart of yoga. \nJoin us for a special\, intimate evening with senior teacher Amy Landry\, celebrating her new book The Ocean of Yoga—a title that beautifully reflects the depth and vastness of this practice. \nThursday\, April 16th\, 7PM\nTHIS IS A FREE EVENT -For Preparation and Catering Please Reserve Your Spot here. \nThis gathering offers a gentle and welcoming way to experience the less-seen sides of yoga. You’ll be guided through a seated practice of pranayama (breathing practice) and meditation\, and hear inspiring reflections and teachings from Amy’s book. \nIf you’ve never practiced before—or have been thinking about it—this is a beautiful place to begin. This free evening is both experiential and educational\, with meaningful conversation\, connection\, tea\, and delicious bites to share. \nSpaces are limited to keep the evening intimate. \nThere will be time at the end of this event for Q&A and book signing. If you have your own copy bring this with you\, only a few signed copies will be available to purchase on the night.  \n\n“With context and care to scaffold your practice\, The Ocean of Yoga generously offers inquiry\, depth\, respect\, and refuge.”—ELEANA BROWER\, bestselling author of Practice You and Hold Nothing \n“Amy Landry’s book offers a meaningful compilation of yoga’s history and concepts\, presented in a way that is both accessible and engaging. I am confident it will serve as a helpful resource and companion for anyone wishing to strengthen their foundation in yoga\, whether as a practitioner or a teacher.”—PRASAD RANGNEKAR founder of Yogaprasad Institute \n\n\nABOUT AMY: \n \nA beacon for those craving a connection to tradition and timeless wisdom\, Amy Landry is a registered senior yoga teacher\, ayurvedic practitioner\, mentor\, mother-of-two\, odissi dancer\, podcast host\, author\, facilitator of the Study Yoga summit\, and founder of the online Shruti School of Yoga. \nAmy aims to amalgamate several Indian disciplines into daily life with the hope of inspiring her community to have a tangible relationship with living yoga—rather than seeing it as an isolated practice. \nHer forthcoming book\, The Ocean of Yoga: A Complete Guide for Living the Teachings\, Tradition\, and Practice\, will be published by the esteemed Shambhala Publications globally in March 2026. \nAmy has been steeped in studentship and sharing yoga for over two decades\, and has curated this much-needed resource for the international yoga community of both practitioners and teachers who yearn for greater clarity\, integration\, and direction on their personal path toward higher attainments. \n\nThursday\, April 16th\, 7PM\nCost: FREE \nFOR CATERING PLEASE RESERVE YOUR SPOT HERE
URL:https://www.clayfieldyoga.com.au/event/the-ocean-of-yoga-satsang-book-launch/
LOCATION:Clayfield Yoga Studio\, 30 Wagner Rd\, Clayfield\, Brisbane \, Australia
ATTACH;FMTTYPE=image/jpeg:https://www.clayfieldyoga.com.au/wp-content/uploads/2026/03/The-Ocean-of-Yoga-Clayfield-event.jpg
END:VEVENT
END:VCALENDAR