BEGIN:VCALENDAR
VERSION:2.0
PRODID:-//Clayfield Yoga Studio - ECPv6.15.17.1//NONSGML v1.0//EN
CALSCALE:GREGORIAN
METHOD:PUBLISH
X-WR-CALNAME:Clayfield Yoga Studio
X-ORIGINAL-URL:https://www.clayfieldyoga.com.au
X-WR-CALDESC:Events for Clayfield Yoga Studio
REFRESH-INTERVAL;VALUE=DURATION:PT1H
X-Robots-Tag:noindex
X-PUBLISHED-TTL:PT1H
BEGIN:VTIMEZONE
TZID:Australia/Brisbane
BEGIN:STANDARD
TZOFFSETFROM:+1000
TZOFFSETTO:+1000
TZNAME:AEST
DTSTART:20250101T000000
END:STANDARD
END:VTIMEZONE
BEGIN:VEVENT
DTSTART;TZID=Australia/Brisbane:20260124T110000
DTEND;TZID=Australia/Brisbane:20260124T160000
DTSTAMP:20260425T205953
CREATED:20260105T224120Z
LAST-MODIFIED:20260122T020120Z
UID:6882-1769252400-1769270400@www.clayfieldyoga.com.au
SUMMARY:Finding Your True North Mini Retreat
DESCRIPTION:As we step into a new year\, this is a time to pause\, reflect\, and realign with what truly matters.\n \nAligning with Your True North Mini Retreat\nYoga is the sacred art of returning to the Self — the divine compass of the heart that quietly points us back to our own inner Light. \nWhen we live in harmony with our true nature\, life moves with greater grace. Each step becomes lighter\, guided not by the changing winds of the world\, but by the steady whisper of the soul. \nJoin Tanya and Lucia for a gentle and uplifting gathering that begins with joyful circle connection — a way to open the heart\, dissolve tension\, and remember that the divine flows through each of us\, and through all of us together. In the company of like-hearted seekers\, we awaken the courage to live more sincerely\, more authentically\, more in tune with our own True North. \nAfter a light lunch\, we will move into quieter\, soul-nourishing practices that draw you back into the sanctuary of inner stillness. From this calm center\, clarity arises\, peace expands\, and the heart remembers its rightful place as the guiding star of your life. \nAnswer the call of the soul — return to the wisdom within and step into the new year in harmony with your highest purpose. \nReserve your place today and bless yourself with time to release\, realign\, and begin anew — centered\, uplifted\, and inwardly free. \n \nDATE: Sat 24th Jan 2026\nTIME: 11 am -4pm @ CYS\nCOST: $190 – includes vegetarian lunch & refreshments\nBOOK HERE  \nYOU AND A FRIEND $300 – BOOK IN BOTH HERE \n \nJoin Tanya and Lucia post event for a casual social connection from 4:30pm @ EJ Station House
URL:https://www.clayfieldyoga.com.au/event/finding-your-true-north/
LOCATION:Clayfield Yoga Studio
ATTACH;FMTTYPE=image/jpeg:https://www.clayfieldyoga.com.au/wp-content/uploads/2026/01/Finding-True-Norht-Workshop.jpg
END:VEVENT
END:VCALENDAR