BEGIN:VCALENDAR
VERSION:2.0
PRODID:-//Clayfield Yoga Studio - ECPv6.15.17.1//NONSGML v1.0//EN
CALSCALE:GREGORIAN
METHOD:PUBLISH
X-WR-CALNAME:Clayfield Yoga Studio
X-ORIGINAL-URL:https://www.clayfieldyoga.com.au
X-WR-CALDESC:Events for Clayfield Yoga Studio
REFRESH-INTERVAL;VALUE=DURATION:PT1H
X-Robots-Tag:noindex
X-PUBLISHED-TTL:PT1H
BEGIN:VTIMEZONE
TZID:Australia/Brisbane
BEGIN:STANDARD
TZOFFSETFROM:+1000
TZOFFSETTO:+1000
TZNAME:AEST
DTSTART:20250101T000000
END:STANDARD
END:VTIMEZONE
BEGIN:VEVENT
DTSTART;TZID=Australia/Brisbane:20260509T110000
DTEND;TZID=Australia/Brisbane:20260509T140000
DTSTAMP:20260425T213323
CREATED:20260420T224059Z
LAST-MODIFIED:20260420T224149Z
UID:7045-1778324400-1778335200@www.clayfieldyoga.com.au
SUMMARY:Yoga For Bone Density
DESCRIPTION:Yoga For Bone Density\nwith Senior Yoga Physiotherapist Tamara James\nYou don’t have to give up your Yoga to prevent or manage Osteoporosis or Osteopenia.\nWith 20 years of experiencce\, YogaPhysio Therapist Tamara James is a specialist in using Yoga to treat pain and injury.   \nIn this educational and practical workshop In this workshop learn ways of managing bone density in yoga classes \n• Practice yoga safely with low bone density \n• Modify and teach postures with confidence \n• Build strength using weights—without losing the yoga feel \n• Progress safely\, even with pain or past injuries \n• Support bone health through simple\, effective strategies \n \nTam will include the relevance of diet\, lifestyle and share specific training to optimise your bones  \nThis session will finish with a lead relaxation and meditation to consolidate your learning \nDate: Saturday 9th May\nTime: 11 am – 2 pm\nCost: $150\nSAVE $40 – BOOK IN BEFORE 1ST MAY – click here for discount code
URL:https://www.clayfieldyoga.com.au/event/yoga-for-bone-density/
LOCATION:Clayfield Yoga Studio\, 30 Wagner Rd\, Clayfield\, Brisbane \, Australia
ATTACH;FMTTYPE=image/jpeg:https://www.clayfieldyoga.com.au/wp-content/uploads/2026/04/Copy-of-Copy-of-Look-after-your-knees-Facebook-Cover.jpg
END:VEVENT
END:VCALENDAR